BEGIN:VCALENDAR
VERSION:2.0
PRODID:-//Quakers - ECPv6.11.2.1//NONSGML v1.0//EN
CALSCALE:GREGORIAN
METHOD:PUBLISH
X-ORIGINAL-URL:https://www.quakers.co.za
X-WR-CALDESC:Events for Quakers
REFRESH-INTERVAL;VALUE=DURATION:PT1H
X-Robots-Tag:noindex
X-PUBLISHED-TTL:PT1H
BEGIN:VTIMEZONE
TZID:Europe/Helsinki
BEGIN:DAYLIGHT
TZOFFSETFROM:+0200
TZOFFSETTO:+0300
TZNAME:EEST
DTSTART:20200329T010000
END:DAYLIGHT
BEGIN:STANDARD
TZOFFSETFROM:+0300
TZOFFSETTO:+0200
TZNAME:EET
DTSTART:20201025T010000
END:STANDARD
END:VTIMEZONE
BEGIN:VEVENT
DTSTART;TZID=Europe/Helsinki:20201005T130000
DTEND;TZID=Europe/Helsinki:20201008T130000
DTSTAMP:20260426T072431
CREATED:20190501T172702Z
LAST-MODIFIED:20200501T082024Z
UID:2022-1601902800-1602162000@www.quakers.co.za
SUMMARY:MYRM 2020
DESCRIPTION:Mid-Year Reps Meeting has been postponed to 5-8 October 2020 because of the Covid-19 pandemic. It will be held at the Lumko Retreat and Conference Centre in Benoni North.
URL:https://www.quakers.co.za/event/myrm-2020/
LOCATION:Lumko Retreat and Conference Centre\, 47 Dickenson Road\, Benoni North\, Gauteng\, 1501\, South Africa
CATEGORIES:MYRM
ORGANIZER;CN="Heath White":MAILTO:heathwhite@me.com
END:VEVENT
END:VCALENDAR