BEGIN:VCALENDAR
VERSION:2.0
PRODID:-//Quakers - ECPv6.11.2.1//NONSGML v1.0//EN
CALSCALE:GREGORIAN
METHOD:PUBLISH
X-WR-CALNAME:Quakers
X-ORIGINAL-URL:https://www.quakers.co.za
X-WR-CALDESC:Events for Quakers
REFRESH-INTERVAL;VALUE=DURATION:PT1H
X-Robots-Tag:noindex
X-PUBLISHED-TTL:PT1H
BEGIN:VTIMEZONE
TZID:Europe/Helsinki
BEGIN:DAYLIGHT
TZOFFSETFROM:+0200
TZOFFSETTO:+0300
TZNAME:EEST
DTSTART:20220327T010000
END:DAYLIGHT
BEGIN:STANDARD
TZOFFSETFROM:+0300
TZOFFSETTO:+0200
TZNAME:EET
DTSTART:20221030T010000
END:STANDARD
END:VTIMEZONE
BEGIN:VEVENT
DTSTART;TZID=Europe/Helsinki:20220723T100000
DTEND;TZID=Europe/Helsinki:20220724T170000
DTSTAMP:20260419T192654
CREATED:20220526T150930Z
LAST-MODIFIED:20220526T150930Z
UID:2751-1658570400-1658682000@www.quakers.co.za
SUMMARY:Representative Meeting 23-24 July 2022
DESCRIPTION:The next SAYM Representative Meeting (RM 2207) will take place over the weekend of 23-24 July 2022. It will be held online via Zoom. \nThe Meeting for Worship and Worship Sharing on the morning of Sunday 24 July 2022 will be open to all.
URL:https://www.quakers.co.za/event/representative-meeting-23-24-july-2022/
LOCATION:Zoom – online meeting
CATEGORIES:Reps Meeting (RM 3x per year)
END:VEVENT
BEGIN:VEVENT
DTSTART;TZID=Europe/Helsinki:20220326T105000
DTEND;TZID=Europe/Helsinki:20220327T153000
DTSTAMP:20260419T192654
CREATED:20220303T085431Z
LAST-MODIFIED:20220303T085845Z
UID:2563-1648291800-1648395000@www.quakers.co.za
SUMMARY:Representatives Meeting March 2022
DESCRIPTION:The next Representatives Meeting will be held as an online event on 26th and 27th March. \nDownload the registration form. \nDRAFT AGENDA \nVersion of 28 February 2022 \nSaturday 26 March 2022 \n\n\n\nItem\nTime\nSession\nDuration\n\n\n1\n10.50\nFriends log on to Zoom Meeting\n10 min\n\n\n2\n11.00\nMeeting for Worship: theme ubuntu\n30 min\n\n\n3\n11.30\nA brief history of our (local) meeting\n30 min\n\n\n4\n12.00\nComfort break\n10 min\n\n\n5\n12.10\nMinute\n10 min\n\n\n6\n12.20\nYM Clerks Report on Implementation of RM and YM decisions\n40 min\n\n\n7\n13.00\nBreak for Lunch\n30 min\n\n\n8\n13.30\nMinute\n10 min\n\n\n9\n13.40\nReflection on the experience of the PAR Groups and decisions on follow-ups and actions\n60 min\n\n\n10\n14.40\nComfort Break\n10 min\n\n\n11\n14.50\nMinute\n10 min\n\n\n12\n15.00\nLight and Lively – sharing of music\, poetry\, stories\, videos\, 10 min talks\, etc – open mike for items\n60 min\n\n\n13\n16.00\nClosing of the day announcements\n\n\n\n\n  \nSunday 27 March 2022 \n\n\n\n14\n9.20\nFriends log in to Zoom Meeting\n10 min\n\n\n15\n9.30\nMeeting for Worship: theme caring for creation\n45 min\n\n\n16\n10.15\nWorship Sharing in breakout rooms.\n30 min\n\n\n17\n10.45\nDiscussion with Tim Gee\, new General Secretary\, FWCC World Office\, and Bainito Wamalwa\, Clerk of FWCC Africa Section\n30 min\n\n\n18\n11.15\nComfort Break\, Transition\n15 min\n\n\n19\n11.30\nYoung Friends and Children’s Meeting\n60 min\n\n\n19bis\n12.30\nFollow-up on PAR Groups\n30 min\n\n\n20\n13.00\nBreak for Lunch\n\n\n\n21\n13.40\nMinute\n20 min\n\n\n22\n14.00\nProposed theme for FWCC WPM 2024 and discussion of whether it could serve as the theme for SAYM 2023\n45 min\n\n\n22bis\n14.45\nReport from Nominations Committee\n15 min\n\n\n23\n15.00\nComfort Break\n10 min\n\n\n24\n15.10\nMinute\n10 min\n\n\n25\n15.20\nClosing Silence\n10 min
URL:https://www.quakers.co.za/event/representatives-meeting-march-2022/
CATEGORIES:Reps Meeting (RM 3x per year)
ORGANIZER;CN="Heath White":MAILTO:heathwhite@me.com
END:VEVENT
END:VCALENDAR