BEGIN:VCALENDAR
VERSION:2.0
PRODID:-//Quakers - ECPv6.11.2.1//NONSGML v1.0//EN
CALSCALE:GREGORIAN
METHOD:PUBLISH
X-ORIGINAL-URL:https://www.quakers.co.za
X-WR-CALDESC:Events for Quakers
REFRESH-INTERVAL;VALUE=DURATION:PT1H
X-Robots-Tag:noindex
X-PUBLISHED-TTL:PT1H
BEGIN:VTIMEZONE
TZID:Europe/Helsinki
BEGIN:DAYLIGHT
TZOFFSETFROM:+0200
TZOFFSETTO:+0300
TZNAME:EEST
DTSTART:20210328T010000
END:DAYLIGHT
BEGIN:STANDARD
TZOFFSETFROM:+0300
TZOFFSETTO:+0200
TZNAME:EET
DTSTART:20211031T010000
END:STANDARD
BEGIN:DAYLIGHT
TZOFFSETFROM:+0200
TZOFFSETTO:+0300
TZNAME:EEST
DTSTART:20220327T010000
END:DAYLIGHT
BEGIN:STANDARD
TZOFFSETFROM:+0300
TZOFFSETTO:+0200
TZNAME:EET
DTSTART:20221030T010000
END:STANDARD
BEGIN:DAYLIGHT
TZOFFSETFROM:+0200
TZOFFSETTO:+0300
TZNAME:EEST
DTSTART:20230326T010000
END:DAYLIGHT
BEGIN:STANDARD
TZOFFSETFROM:+0300
TZOFFSETTO:+0200
TZNAME:EET
DTSTART:20231029T010000
END:STANDARD
END:VTIMEZONE
BEGIN:VEVENT
DTSTART;TZID=Europe/Helsinki:20230103T130000
DTEND;TZID=Europe/Helsinki:20230108T110000
DTSTAMP:20260419T163351
CREATED:20220912T121511Z
LAST-MODIFIED:20221009T132305Z
UID:2857-1672750800-1673175600@www.quakers.co.za
SUMMARY:Yearly Meeting 2023
DESCRIPTION:The upcoming YM 2023 of the Southern Africa Yearly Meeting will be taking place from 3-8 January 2023 at Good Shepherd Retreat Centre in Hartbeespoort. \nWe hope that you will be able to attend this Yearly Meeting\, which will focus on Ubuntu. YM 2023 will be a blended Meeting in that we will be gathering in person at Good Shepherd as well as having some sessions being simultaneously available via Zoom. \nThe Registration forms and information documents can be downloaded below\, or from the SAYM page. \nNB NB if your browser blocks pop-ups (this is often the case if you’re using Chrome)\, you will need to allow pop-ups from this site in order to download the documents. \n\n\nYM 2023 IN PERSON Registration and ECTF Application — REGISTRATION FORM — Use this one if you plan to attend YM in person (including if you are attending as a day visitor\, for just one session\, e.g. the Richard Gush Lecture).\nYM 2023 ONLINE – Registration — REGISTRATION FORM — Use this one if you will be attending online only. You can indicate on this form if you need ECTF support for data or transport to where your Local Meeting is gathering.\nYM 2023 Map of Yearly Meeting Programme — version of 29 August 2022.\nYM 2023 Objectives and Agenda YM 2023 — version of 29 August 2022.\n\n\nThe deadline for registrations is 15 October 2022. \nThe deadline for reports is 31 October 2022.  \nPlease note that\, unlike previous YMs\, Local Meetings are *not* required to submit reports for inclusion in the YM Document. \nTo ensure you receive all relevant information about YM 2023\, please add the email addresses noted on the registration forms to your email contacts\, to prevent anything ending up in your Spam folder. \nWe look forward to gathering in person once again where we can strengthen our connections as Friends and each deepen our own spiritual lives.
URL:https://www.quakers.co.za/event/yearly-meeting-2023/
LOCATION:Good Shepherd Retreat Centre\, Hartebeespoort\, South Africa
CATEGORIES:Richard Gush Lecture,Southern Africa Yearly meeting,Yearly Meeting
ORGANIZER;CN="Heath White":MAILTO:heathwhite@me.com
END:VEVENT
BEGIN:VEVENT
DTSTART;TZID=Europe/Helsinki:20210616T180000
DTEND;TZID=Europe/Helsinki:20210616T193000
DTSTAMP:20260419T163351
CREATED:20210518T102107Z
LAST-MODIFIED:20210518T103512Z
UID:2203-1623866400-1623871800@www.quakers.co.za
SUMMARY:Richard Gush Lecture 2021
DESCRIPTION:Marie Odendaal will be giving the 2021 Richard Gush Lecture\, titled “Creating our world in love’s image”\, on Wednesday\, 16 June 2021 at 18:00 South African time. \nThe lecture will be given via Zoom\, and there will be time for questions and small group discussions during the course of the 90-minute session. Participants are requested to log in at least 10 minutes before the starting time. \nTo attend the lecture\, send an email to RichardGushLecture@gmail.com and a registration form will be sent to you.
URL:https://www.quakers.co.za/event/richard-gush-lecture-2021/
CATEGORIES:Richard Gush Lecture,Southern Africa Yearly meeting
END:VEVENT
END:VCALENDAR