BEGIN:VCALENDAR
VERSION:2.0
PRODID:-//Quakers - ECPv6.11.2.1//NONSGML v1.0//EN
CALSCALE:GREGORIAN
METHOD:PUBLISH
X-WR-CALNAME:Quakers
X-ORIGINAL-URL:https://www.quakers.co.za
X-WR-CALDESC:Events for Quakers
REFRESH-INTERVAL;VALUE=DURATION:PT1H
X-Robots-Tag:noindex
X-PUBLISHED-TTL:PT1H
BEGIN:VTIMEZONE
TZID:Europe/Helsinki
BEGIN:DAYLIGHT
TZOFFSETFROM:+0200
TZOFFSETTO:+0300
TZNAME:EEST
DTSTART:20260329T010000
END:DAYLIGHT
BEGIN:STANDARD
TZOFFSETFROM:+0300
TZOFFSETTO:+0200
TZNAME:EET
DTSTART:20261025T010000
END:STANDARD
END:VTIMEZONE
BEGIN:VEVENT
DTSTART;TZID=Europe/Helsinki:20260322T090000
DTEND;TZID=Europe/Helsinki:20260322T170000
DTSTAMP:20260419T180755
CREATED:20251107T085457Z
LAST-MODIFIED:20251107T085457Z
UID:3371-1774170000-1774198800@www.quakers.co.za
SUMMARY:Representative Meeting\, 22 March 2026
DESCRIPTION:The next SAYM Representative Meeting will be held on 22 March 2026 via Zoom. \nFurther details and requests for reports will be sent out in due course. \nAny SAYM Friends who wish to offer reports on their own special projects or interests for the RM should get in touch with the Co-Clerks. Reports for inclusion in the RM Reports Document should be sent to Heath by 1 March 2026.
URL:https://www.quakers.co.za/event/representative-meeting-22-march-2026/
CATEGORIES:Representative Meeting,Southern Africa Yearly meeting
ORGANIZER;CN="Heath White":MAILTO:heathwhite@me.com
END:VEVENT
END:VCALENDAR